BEGIN:VCALENDAR
VERSION:2.0
PRODID:-//South Florida Region - ECPv6.15.20//NONSGML v1.0//EN
CALSCALE:GREGORIAN
METHOD:PUBLISH
X-WR-CALNAME:South Florida Region
X-ORIGINAL-URL:https://sfrna.net
X-WR-CALDESC:Events for South Florida Region
REFRESH-INTERVAL;VALUE=DURATION:PT1H
X-Robots-Tag:noindex
X-PUBLISHED-TTL:PT1H
BEGIN:VTIMEZONE
TZID:America/New_York
BEGIN:DAYLIGHT
TZOFFSETFROM:-0500
TZOFFSETTO:-0400
TZNAME:EDT
DTSTART:20250309T070000
END:DAYLIGHT
BEGIN:STANDARD
TZOFFSETFROM:-0400
TZOFFSETTO:-0500
TZNAME:EST
DTSTART:20251102T060000
END:STANDARD
BEGIN:DAYLIGHT
TZOFFSETFROM:-0500
TZOFFSETTO:-0400
TZNAME:EDT
DTSTART:20260308T070000
END:DAYLIGHT
BEGIN:STANDARD
TZOFFSETFROM:-0400
TZOFFSETTO:-0500
TZNAME:EST
DTSTART:20261101T060000
END:STANDARD
BEGIN:DAYLIGHT
TZOFFSETFROM:-0500
TZOFFSETTO:-0400
TZNAME:EDT
DTSTART:20270314T070000
END:DAYLIGHT
BEGIN:STANDARD
TZOFFSETFROM:-0400
TZOFFSETTO:-0500
TZNAME:EST
DTSTART:20271107T060000
END:STANDARD
END:VTIMEZONE
BEGIN:VEVENT
DTSTART;TZID=America/New_York:20260425T110000
DTEND;TZID=America/New_York:20260425T160000
DTSTAMP:20260424T105555
CREATED:20260423T204533Z
LAST-MODIFIED:20260423T211108Z
UID:10000125-1777114800-1777132800@sfrna.net
SUMMARY:North Dade H&I Gratitude Splash
DESCRIPTION:
URL:https://sfrna.net/event/north-dade-hi-gratitude-splash/
LOCATION:Pavilion\,8301\, 81st Collins Ave\, Miami Beach\, FL\, 33141\, United States
ATTACH;FMTTYPE=image/jpeg:https://sfrna.net/wp-content/uploads/2026/04/North-Dade-HI-Gratitude-Splash.jpg
GEO:25.8661001;-80.1211742
X-APPLE-STRUCTURED-LOCATION;VALUE=URI;X-ADDRESS=Pavilion8301 81st Collins Ave Miami Beach FL 33141 United States;X-APPLE-RADIUS=500;X-TITLE=81st Collins Ave:geo:-80.1211742,25.8661001
END:VEVENT
END:VCALENDAR